BEGIN:VCALENDAR
VERSION:2.0
PRODID:-//Tukios.com/
BEGIN:VEVENT
UID:7bd2e615-3dfc-4fa7-b128-acafdcbff4d7@www.reploglelawrence.com
DTSTAMP:20260423T214634Z
DTSTART:20260424T153000Z
DTEND:20260424T161500Z
SUMMARY:Graveside Service
DESCRIPTION:
URL:https://www.reploglelawrence.com/obituaries/jack-mays
LOCATION:Antioch Cemetery 425 Antioch Road  Humboldt TN 38343
GEO:35.7926095;-88.8283638
END:VEVENT
END:VCALENDAR